BEGIN:VCALENDAR
VERSION:2.0
PRODID:-//Kathryn Taylor - ECPv6.15.11//NONSGML v1.0//EN
CALSCALE:GREGORIAN
METHOD:PUBLISH
X-WR-CALNAME:Kathryn Taylor
X-ORIGINAL-URL:https://kathryntaylorbooks.com
X-WR-CALDESC:Events for Kathryn Taylor
REFRESH-INTERVAL;VALUE=DURATION:PT1H
X-Robots-Tag:noindex
X-PUBLISHED-TTL:PT1H
BEGIN:VTIMEZONE
TZID:America/New_York
BEGIN:DAYLIGHT
TZOFFSETFROM:-0500
TZOFFSETTO:-0400
TZNAME:EDT
DTSTART:20170312T070000
END:DAYLIGHT
BEGIN:STANDARD
TZOFFSETFROM:-0400
TZOFFSETTO:-0500
TZNAME:EST
DTSTART:20171105T060000
END:STANDARD
BEGIN:DAYLIGHT
TZOFFSETFROM:-0500
TZOFFSETTO:-0400
TZNAME:EDT
DTSTART:20180311T070000
END:DAYLIGHT
BEGIN:STANDARD
TZOFFSETFROM:-0400
TZOFFSETTO:-0500
TZNAME:EST
DTSTART:20181104T060000
END:STANDARD
BEGIN:DAYLIGHT
TZOFFSETFROM:-0500
TZOFFSETTO:-0400
TZNAME:EDT
DTSTART:20190310T070000
END:DAYLIGHT
BEGIN:STANDARD
TZOFFSETFROM:-0400
TZOFFSETTO:-0500
TZNAME:EST
DTSTART:20191103T060000
END:STANDARD
BEGIN:DAYLIGHT
TZOFFSETFROM:-0500
TZOFFSETTO:-0400
TZNAME:EDT
DTSTART:20200308T070000
END:DAYLIGHT
BEGIN:STANDARD
TZOFFSETFROM:-0400
TZOFFSETTO:-0500
TZNAME:EST
DTSTART:20201101T060000
END:STANDARD
END:VTIMEZONE
BEGIN:VTIMEZONE
TZID:America/Chicago
BEGIN:DAYLIGHT
TZOFFSETFROM:-0600
TZOFFSETTO:-0500
TZNAME:CDT
DTSTART:20180311T080000
END:DAYLIGHT
BEGIN:STANDARD
TZOFFSETFROM:-0500
TZOFFSETTO:-0600
TZNAME:CST
DTSTART:20181104T070000
END:STANDARD
BEGIN:DAYLIGHT
TZOFFSETFROM:-0600
TZOFFSETTO:-0500
TZNAME:CDT
DTSTART:20190310T080000
END:DAYLIGHT
BEGIN:STANDARD
TZOFFSETFROM:-0500
TZOFFSETTO:-0600
TZNAME:CST
DTSTART:20191103T070000
END:STANDARD
BEGIN:DAYLIGHT
TZOFFSETFROM:-0600
TZOFFSETTO:-0500
TZNAME:CDT
DTSTART:20200308T080000
END:DAYLIGHT
BEGIN:STANDARD
TZOFFSETFROM:-0500
TZOFFSETTO:-0600
TZNAME:CST
DTSTART:20201101T070000
END:STANDARD
END:VTIMEZONE
BEGIN:VEVENT
DTSTART;TZID=America/New_York:20191005T100000
DTEND;TZID=America/New_York:20191005T160000
DTSTAMP:20260424T132853
CREATED:20190729T154947Z
LAST-MODIFIED:20190729T154947Z
UID:1670-1570269600-1570291200@kathryntaylorbooks.com
SUMMARY:Williamsburg Book Festival
DESCRIPTION:Come to the Williamsburg Book Festival. Meet area authors including Kathryn (Schaal) Taylor for lively conversation about her recently released book Two Minus One: A Memoir. See for yourself why it was named to Kirkus Reviews’ Best Books of 2018 and get your own personally signed copy on Saturday from 10–4!
URL:https://kathryntaylorbooks.com/event/williamsburg-book-festival/
LOCATION:Stryker Center\, Williamsburg\, VA\, 412 North Boundary Road\, Williamsburg\, Virginia\, 23185\, United States
CATEGORIES:Book Tour
ATTACH;FMTTYPE=image/jpeg:https://kathryntaylorbooks.com/wp-content/uploads/2019/07/Williamsburg-Book-Festival.jpg
END:VEVENT
BEGIN:VEVENT
DTSTART;VALUE=DATE:20190928
DTEND;VALUE=DATE:20190929
DTSTAMP:20260424T132853
CREATED:20190602T145311Z
LAST-MODIFIED:20190602T145904Z
UID:1601-1569628800-1569715199@kathryntaylorbooks.com
SUMMARY:Lowcountry Book Club Convention
DESCRIPTION:Come join in on lively discussions of wonderful Lowcountry Book Club Convention reads at the Pat Conroy Literary Center in beautiful Beaufort\, SC! \n  \nSCHEDULE OF EVENTS \n10:00-11:00 a.m. Pat Conroy Literary Center Book Club: Beach Music\, with discussion leader Margaret Evans\, Lowcountry Weekly publisher and columnist \n11:15 a.m.-12:30 p.m. Keynote: Kim Michele Richardson (The Book Woman of Troublesome Creek) in Conversation with Bren McClain (One Good Mama Bone) \n12:30-1:45 p.m. Lunch catered by Debbi Covington ($20\, advance registration required) Book club idea exchange.  Book signing in partnership with NeverMore Books \n2:00-2:30 p.m. Meet the Pulpwood Queen\, Kathy L. Murphy (The Pulpwood Queens Tiara-Wearing Book-Sharing Guide to Life) interviewed by Kacey Kowars (A Celebration of Words and Another Celebration of Words) \n2:30-3:30 p.m. Pulpwood Queens author panel: Kathy L. Murphy\, Kacey Kowars\, Bren McClain\, Mary Ann Henry (Ladies in Low Places)\, Kathryn Taylor (Two Minus One) and Jonathan Haupt (Our Prince of Scribes: Writers Remember Pat Conroy) \n3:30-4:00 p.m. Book signing with our panelists in partnership with NeverMore Books.
URL:https://kathryntaylorbooks.com/event/lowcountry-book-club-convention/
LOCATION:Pat Conroy Literary Center\, 905 Port Republic Street\, Beaufort\,\, South Carolina\, 29902\, United States
CATEGORIES:Book Tour
ATTACH;FMTTYPE=image/jpeg:https://kathryntaylorbooks.com/wp-content/uploads/2019/06/Conroy-Center.jpg
END:VEVENT
BEGIN:VEVENT
DTSTART;TZID=America/New_York:20190926T183000
DTEND;TZID=America/New_York:20190926T210000
DTSTAMP:20260424T132853
CREATED:20190719T053010Z
LAST-MODIFIED:20190719T164127Z
UID:1708-1569522600-1569531600@kathryntaylorbooks.com
SUMMARY:Book Club Discussion: Two Minus One at The Ponds
DESCRIPTION:Residents of The Ponds are preparing for lively conversation of Two Minus One: A Memoir with local author Kathryn Taylor. Clear your calendar and join the group on Thursday\, September 26th at 6:30 p.m. Looking forward to signing your books and hearing your comments!
URL:https://kathryntaylorbooks.com/event/book-club-discussion-two-minus-one-at-the-ponds/
CATEGORIES:Book Tour
ATTACH;FMTTYPE=image/jpeg:https://kathryntaylorbooks.com/wp-content/uploads/2019/07/The-Ponds-e1563553555627.jpg
END:VEVENT
BEGIN:VEVENT
DTSTART;TZID=America/New_York:20190825T080000
DTEND;TZID=America/New_York:20190825T170000
DTSTAMP:20260424T132853
CREATED:20190713T204416Z
LAST-MODIFIED:20190713T204416Z
UID:1680-1566720000-1566752400@kathryntaylorbooks.com
SUMMARY:Book Signing: Two Minus One at Barnes & Noble Libbie Place
DESCRIPTION:Come join Kathryn (Schaal) Taylor-former resident and Chesterfield County Schools teacher-for lively conversation about how she came to write her recently released book Two Minus One: A Memoir. See for yourself why it was named to Kirkus Reviews’ Best Books of 2018 and get your own personally signed copy on Sunday  from 1-3!
URL:https://kathryntaylorbooks.com/event/book-signing-two-minus-one-at-barnes-noble-libbie-place/
CATEGORIES:Book Tour
ATTACH;FMTTYPE=image/jpeg:https://kathryntaylorbooks.com/wp-content/uploads/2019/07/barnes-noble-libbie-place.jpg
END:VEVENT
BEGIN:VEVENT
DTSTART;TZID=America/New_York:20190824T130000
DTEND;TZID=America/New_York:20190824T170000
DTSTAMP:20260424T132853
CREATED:20190710T124906Z
LAST-MODIFIED:20190713T204752Z
UID:1674-1566651600-1566666000@kathryntaylorbooks.com
SUMMARY:Book Signing: Two Minus One at Barnes & Noble Chesterfield Towne Center
DESCRIPTION:Come join Kathryn (Schaal) Taylor-former resident and Chesterfield County Schools teacher-for lively conversation about how she came to write her recently released book Two Minus One: A Memoir. See for yourself why it was named to Kirkus Reviews’ Best Books of 2018 and get your own personally signed copy on Saturday from 1-5!
URL:https://kathryntaylorbooks.com/event/book-signing-barnes-noble-chesterfield-towne-center/
LOCATION:Barnes & Noble Chesterfield Towne Center\, 11500 Midlothian Turnpike Space 440\, Richmond\, VA\, 23235\, United States
CATEGORIES:Book Tour
ATTACH;FMTTYPE=image/jpeg:https://kathryntaylorbooks.com/wp-content/uploads/2019/07/barnes-and-noble-towne-center-e1562421918707.jpg
END:VEVENT
BEGIN:VEVENT
DTSTART;TZID=America/New_York:20190727T100000
DTEND;TZID=America/New_York:20190727T123000
DTSTAMP:20260424T132853
CREATED:20190709T170109Z
LAST-MODIFIED:20190710T125725Z
UID:1684-1564221600-1564230600@kathryntaylorbooks.com
SUMMARY:Book Signing: Two Minus One at The Book Loft
DESCRIPTION:Back by popular demand! Come out to Fernandina Beach early on Saturday\, July 27th for a book signing! Stop by the Farmer’s Market for some fresh and locally grown produce! Grab a bite to eat at one of the local eateries in town\, then stop in at The Book Loft and chat with Author Kathryn Taylor! Kathryn will be back in Florida to sign more copies of her recently released book Two Minus One: A Memoir from 10-12:30! Be sure to stop in\, say hello\, and get your signed copy of her book before she returns to Charleston\, South Carolina!
URL:https://kathryntaylorbooks.com/event/book-signing-the-book-loft/
LOCATION:The Book Loft\, Fernandina Beach\, FL\, 214 Centre Street\, Fernandina Beach\, Florida\, 32024\, United States
CATEGORIES:Book Tour
ATTACH;FMTTYPE=image/jpeg:https://kathryntaylorbooks.com/wp-content/uploads/2019/07/the-book-loft.jpg
END:VEVENT
BEGIN:VEVENT
DTSTART;TZID=America/New_York:20190627T150000
DTEND;TZID=America/New_York:20190627T190000
DTSTAMP:20260424T132853
CREATED:20190601T160911Z
LAST-MODIFIED:20190601T162526Z
UID:1584-1561647600-1561662000@kathryntaylorbooks.com
SUMMARY:Book Signing at Corner House Cafe
DESCRIPTION:It’s time again for appreciating fresh produce\, a leisurely beverage outside with friends\, and a wonderful new book to take to the beach! Stop in to Corner House Cafe and have it all! Enjoy a chilled beverage-and perhaps a snack-while selecting fresh produce at the Farmers’ Market! Then chat with local author Kathryn Taylor as she signs copies of her recently released book Two Minus One: A Memoir! The perfect way to end the day and begin another weekend!
URL:https://kathryntaylorbooks.com/event/book-signing-at-corner-house-cafe/
LOCATION:Corner House Cafe\, 1609 Beech Hill Rd\,\, Summerville\,\, South Carolina\, 29485
CATEGORIES:Book Tour
ATTACH;FMTTYPE=image/jpeg:https://kathryntaylorbooks.com/wp-content/uploads/2019/06/corner-house.jpg
END:VEVENT
BEGIN:VEVENT
DTSTART;TZID=America/New_York:20190623T100000
DTEND;TZID=America/New_York:20190623T140000
DTSTAMP:20260424T132853
CREATED:20190601T162325Z
LAST-MODIFIED:20190601T171304Z
UID:1594-1561284000-1561298400@kathryntaylorbooks.com
SUMMARY:Books and Brunch
DESCRIPTION:Start your Sunday off with great food\, great friends\, and a great book at Corner House Cafe! Jacki Mariest will whip up some scrumptious culinary treats and local author Kathryn Taylor will be on hand to sign copies of her book\, Two Minus One: A Memoir! Bring your friends and join in the fun!
URL:https://kathryntaylorbooks.com/event/books-and-brunch/
LOCATION:Corner House Cafe\, 1609 Beech Hill Rd\,\, Summerville\,\, South Carolina\, 29485
CATEGORIES:Book Tour
ATTACH;FMTTYPE=image/jpeg:https://kathryntaylorbooks.com/wp-content/uploads/2019/06/Corner-House-Brunch.jpg
END:VEVENT
BEGIN:VEVENT
DTSTART;TZID=America/New_York:20190331T130000
DTEND;TZID=America/New_York:20190331T150000
DTSTAMP:20260424T132853
CREATED:20190219T135314Z
LAST-MODIFIED:20190219T140032Z
UID:1381-1554037200-1554044400@kathryntaylorbooks.com
SUMMARY:Book Signing at E. Shaver\, Bookseller
DESCRIPTION:Join Kathryn Taylor for a book signing at Savannah’s E. Shaver\, Bookseller!
URL:https://kathryntaylorbooks.com/event/book-signing-at-e-shaver-bookseller/
LOCATION:e. shaver bookseller
CATEGORIES:Book Tour
ATTACH;FMTTYPE=image/png:https://kathryntaylorbooks.com/wp-content/uploads/2019/02/e-shaver-bookseller.png
END:VEVENT
BEGIN:VEVENT
DTSTART;TZID=America/New_York:20190324T130000
DTEND;TZID=America/New_York:20190324T160000
DTSTAMP:20260424T132853
CREATED:20190219T134019Z
LAST-MODIFIED:20190219T135913Z
UID:1376-1553432400-1553443200@kathryntaylorbooks.com
SUMMARY:Flannery O'Connor Birthday Celebration and Parade!
DESCRIPTION:Come join Kathryn and other southern authors on Lafayette Square in storied Savannah (between the Cathedral and the O’Connor Home at 207 East Charlton Street!) for Local Author Day in conjunction with the Flannery O’Connor parade! \nEvent starts at 1 and parade at 3 so make sure to come early and get the best views!
URL:https://kathryntaylorbooks.com/event/flannery-oconnor-birthday-celebration-and-parade/
CATEGORIES:Book Tour
ATTACH;FMTTYPE=image/png:https://kathryntaylorbooks.com/wp-content/uploads/2019/02/The-Book-Lady-Bookstore.png
ORGANIZER;CN="The Booklady Bookstore":MAILTO:books@thebookladybookstore.com
END:VEVENT
BEGIN:VEVENT
DTSTART;TZID=America/New_York:20190316T120000
DTEND;TZID=America/New_York:20190316T160000
DTSTAMP:20260424T132853
CREATED:20190219T140715Z
LAST-MODIFIED:20190219T140715Z
UID:1385-1552737600-1552752000@kathryntaylorbooks.com
SUMMARY:Book Signing at Barnes & Noble West Ashley
DESCRIPTION:Join Kathryn for a book signing at the Barnes & Noble Booksellers on Sam Rittenberg Blvd!
URL:https://kathryntaylorbooks.com/event/book-signing-at-barnes-noble-west-ashley/
LOCATION:Barnes & Noble\, 1812 Sam Rittenberg Blvd.\, Charleston\, SC\, 29407
CATEGORIES:Book Tour
ATTACH;FMTTYPE=image/jpeg:https://kathryntaylorbooks.com/wp-content/uploads/2019/02/BNCharleston.jpg
ORGANIZER;CN="":MAILTO:shari@writerswin.com
END:VEVENT
BEGIN:VEVENT
DTSTART;TZID=America/New_York:20190301T130000
DTEND;TZID=America/New_York:20190301T150000
DTSTAMP:20260424T132853
CREATED:20190226T133832Z
LAST-MODIFIED:20190226T133956Z
UID:1403-1551445200-1551452400@kathryntaylorbooks.com
SUMMARY:Book Signing at Grand Opening of Main Street Reads
DESCRIPTION:I’ll be signing books right after the ribbon cutting for Main Street Reads that takes place at 1:00 p.m. on Friday\, March 1! I’ll be back at Main Street Reads on Saturday\, March 2\, from 2 – 4 p.m. with fellow Summerville resident and memoir author\, Pattie Welek Hall!
URL:https://kathryntaylorbooks.com/event/book-signing-at-grand-opening-of-main-street-reads/
CATEGORIES:Book Tour
ATTACH;FMTTYPE=image/jpeg:https://kathryntaylorbooks.com/wp-content/uploads/2019/02/main-stree-reads-logo.jpg
END:VEVENT
BEGIN:VEVENT
DTSTART;TZID=America/New_York:20190223T130000
DTEND;TZID=America/New_York:20190223T160000
DTSTAMP:20260424T132853
CREATED:20181122T170756Z
LAST-MODIFIED:20181122T170924Z
UID:1204-1550926800-1550937600@kathryntaylorbooks.com
SUMMARY:Book Signing at the Book Loft
DESCRIPTION:Author Kathryn Taylor will be available at the Book Loft in Fernandina Beach\, FL to answer questions and sign copies of her recently published book Two Minus One: A Memoir. Come in from 1-4p.m. to chat with the author\, browse in this lovely shop and pick up your signed copy!
URL:https://kathryntaylorbooks.com/event/book-signing-at-the-book-loft/
CATEGORIES:Book Tour
ATTACH;FMTTYPE=image/jpeg:https://kathryntaylorbooks.com/wp-content/uploads/2018/11/the-book-loft.jpg
END:VEVENT
BEGIN:VEVENT
DTSTART;TZID=America/New_York:20190222T190000
DTEND;TZID=America/New_York:20190222T210000
DTSTAMP:20260424T132853
CREATED:20190219T221323Z
LAST-MODIFIED:20190219T221601Z
UID:1392-1550862000-1550869200@kathryntaylorbooks.com
SUMMARY:Author Night
DESCRIPTION:Join Kathryn Taylor\, author of Two Minus One: A Memoir and other area authors for book signing at the Barnes & Noble in Savannah\, Georgia. Authors will be available on February 22\, 2019 from 7:00-9:00 p.m. so have an early dinner and hurry in!A
URL:https://kathryntaylorbooks.com/event/author-night/
CATEGORIES:Book Tour
ATTACH;FMTTYPE=image/jpeg:https://kathryntaylorbooks.com/wp-content/uploads/2019/02/BNCharleston.jpg
END:VEVENT
BEGIN:VEVENT
DTSTART;TZID=America/New_York:20190220T173000
DTEND;TZID=America/New_York:20190220T190000
DTSTAMP:20260424T132853
CREATED:20181122T171852Z
LAST-MODIFIED:20190219T215540Z
UID:1207-1550683800-1550689200@kathryntaylorbooks.com
SUMMARY:Kathryn Taylor at Story and Song
DESCRIPTION:Join Author Kathryn Taylor at the lovely Story and Song in Fernandina Beach\, FL. Kathryn will be a special guest on February 20\, 2019 from 5:00-7:00 p.m!  Details will be updated in the next few weeks\, but there will be copies of her recently released book Two Minus One: A Memoir for purchase and signing! Kathryn will also take questions and discuss her writing process. Mark your calendars now and plan to bring a friend as this will be an event you won’t want to miss!
URL:https://kathryntaylorbooks.com/event/kathryn-taylor-at-story-and-song/
CATEGORIES:Book Tour
ATTACH;FMTTYPE=image/gif:https://kathryntaylorbooks.com/wp-content/uploads/2018/11/story-and-song.gif
END:VEVENT
BEGIN:VEVENT
DTSTART;TZID=America/New_York:20190212T190000
DTEND;TZID=America/New_York:20190212T220000
DTSTAMP:20260424T132853
CREATED:20180518T052237Z
LAST-MODIFIED:20181015T223240Z
UID:399-1549998000-1550008800@kathryntaylorbooks.com
SUMMARY:Legend Oaks Book Club
DESCRIPTION:Book discussion and author signing with Kathryn Taylor providing insights into her book\, Two Minus One: A Memoir.
URL:https://kathryntaylorbooks.com/event/legend-oaks-book-club/
CATEGORIES:Book Tour
ATTACH;FMTTYPE=image/jpeg:https://kathryntaylorbooks.com/wp-content/uploads/2018/05/book-wine-fire.jpg
END:VEVENT
BEGIN:VEVENT
DTSTART;TZID=America/New_York:20190207T190000
DTEND;TZID=America/New_York:20190207T210000
DTSTAMP:20260424T132853
CREATED:20181015T222905Z
LAST-MODIFIED:20181015T222905Z
UID:1085-1549566000-1549573200@kathryntaylorbooks.com
SUMMARY:Woodlake Women Wine and Words
DESCRIPTION:Kathryn (Kathie) Taylor returns to the neighborhood to discuss her newly released book Two Minus One!  This is a private event for members of this Book Club only.
URL:https://kathryntaylorbooks.com/event/woodlake-women-wine-and-words/
CATEGORIES:Book Tour
ATTACH;FMTTYPE=image/jpeg:https://kathryntaylorbooks.com/wp-content/uploads/2018/07/Book-with-coffee-in-front-of-fire.jpg
END:VEVENT
BEGIN:VEVENT
DTSTART;TZID=America/New_York:20190206T190000
DTEND;TZID=America/New_York:20190206T210000
DTSTAMP:20260424T132853
CREATED:20181015T230200Z
LAST-MODIFIED:20181015T230200Z
UID:1083-1549479600-1549486800@kathryntaylorbooks.com
SUMMARY:Book Signing at the Alchemists
DESCRIPTION:Former resident Kathryn (Schaal) Taylor will be back in town to share her journey in writing her newly released Two Minus One: A Memoir. There will be time for Q/A and books will be on hand for purchase and signing!
URL:https://kathryntaylorbooks.com/event/book-signing-at-the-alchemists/
LOCATION:The Alchemist’s\, 9200 Stony Point Pkwy #158B\, Richmond\, VA\, 23235
CATEGORIES:Book Tour
ATTACH;FMTTYPE=image/jpeg:https://kathryntaylorbooks.com/wp-content/uploads/2018/10/The-Alchemists.jpg
END:VEVENT
BEGIN:VEVENT
DTSTART;TZID=America/New_York:20190126T140000
DTEND;TZID=America/New_York:20190126T160000
DTSTAMP:20260424T132853
CREATED:20181122T162710Z
LAST-MODIFIED:20181214T135302Z
UID:1151-1548511200-1548518400@kathryntaylorbooks.com
SUMMARY:Book Signing at Park Road Books
DESCRIPTION:Author Kathryn Taylor will be available to answer your questions and sign copies of her book Two Minus One: A Memoir. Come out to Park Road Books and chat with the author and grab a copy of the book Kirkus Review praises as “Truthful\, Dignified\, and Pragmatic Writing.“
URL:https://kathryntaylorbooks.com/event/book-signing-at-park-road-books/
LOCATION:Park Road Books\, Charlotte\, NC\, 4139 Park Road\, Charlotte\, NC\, 28209\, United States
CATEGORIES:Book Tour
ATTACH;FMTTYPE=image/png:https://kathryntaylorbooks.com/wp-content/uploads/2018/11/park-road-books-signing.png
END:VEVENT
BEGIN:VEVENT
DTSTART;VALUE=DATE:20190117
DTEND;VALUE=DATE:20190120
DTSTAMP:20260424T132853
CREATED:20181015T174543Z
LAST-MODIFIED:20181210T213810Z
UID:1096-1547683200-1547942399@kathryntaylorbooks.com
SUMMARY:Pulpwood Queens Girlfriend Weekend
DESCRIPTION:Kathy Murphy\, the Pulpwood Queen!\nThe largest gathering of book club members nationwide\, and Two Minus One gets to be a part of it! Thanks to the Queen herself\, Kathy L. Murphy\, for including me in your epic celebration of books\, readers and writers! \nThe event takes place in Jefferson\, Texas\, January 17-19… see y’all there!
URL:https://kathryntaylorbooks.com/event/pulpwood-queens-girlfriend-weekend/
LOCATION:Jefferson Tourism & Transporation Convention Center\, 305 E Austin St.\, Jefferson\, TX\, 75657
CATEGORIES:Book Tour
ATTACH;FMTTYPE=image/png:https://kathryntaylorbooks.com/wp-content/uploads/2018/10/Pulpwood-Queens.png
END:VEVENT
BEGIN:VEVENT
DTSTART;TZID=America/Chicago:20190106T140000
DTEND;TZID=America/Chicago:20190106T160000
DTSTAMP:20260424T132853
CREATED:20181015T180248Z
LAST-MODIFIED:20181213T041958Z
UID:1050-1546783200-1546790400@kathryntaylorbooks.com
SUMMARY:Author Panel and Book Signing
DESCRIPTION:Come join the fun as former resident and District #203 teacher Kathryn (Schaal) Taylor joins a lively panel of authors when she returns to Naperville and stops by Anderson’s Bookshop! \nVisit: www.andersonsbookshop.com/event/local-author-showcase to pre-order your personal copy before the signing! \nKathryn will be discussing her recently released book Two Minus One: A Memoir and will happily sign copies of her book which can be purchased on site as she catches up with old friends\, colleagues and students!
URL:https://kathryntaylorbooks.com/event/author-panel-and-book-signing/
LOCATION:Anderson’s Book Shop\, 123 W. Jefferson Ave.\, Naperville\, Illinois\, 60540
CATEGORIES:Book Tour
ATTACH;FMTTYPE=image/jpeg:https://kathryntaylorbooks.com/wp-content/uploads/2018/10/Andersons-Bookshop-Naperville.jpg
END:VEVENT
BEGIN:VEVENT
DTSTART;TZID=America/New_York:20181220T173000
DTEND;TZID=America/New_York:20181220T203000
DTSTAMP:20260424T132853
CREATED:20181122T161926Z
LAST-MODIFIED:20181122T161926Z
UID:1185-1545327000-1545337800@kathryntaylorbooks.com
SUMMARY:Author\, Author
DESCRIPTION:Encore event courtesy of Summerville Dream and Maggie Rose Boutique! Due to cold temperatures for November Third Thursday and the generosity of sponsors and shop owners\, Author Kathryn Taylor will return to Maggie Rose Boutique to sign copies of her newly released book Two Minus One: A Memoir. Come in for some great conversation\, great clothes\, and a wonderful last minute gift for everyone on your list!  Copies of Two Minus One: A Memoir will be available at all times at Maggie Rose!
URL:https://kathryntaylorbooks.com/event/author-author-2/
LOCATION:Maggie Rose Boutique\, 130 South Main Street\, Summerville\, SC\, 29483\, United States
CATEGORIES:Book Tour
ATTACH;FMTTYPE=image/jpeg:https://kathryntaylorbooks.com/wp-content/uploads/2018/11/maggie-rose.jpg
END:VEVENT
BEGIN:VEVENT
DTSTART;TZID=America/New_York:20181215T090000
DTEND;TZID=America/New_York:20181215T130000
DTSTAMP:20260424T132853
CREATED:20181122T173007Z
LAST-MODIFIED:20181122T195754Z
UID:1209-1544864400-1544878800@kathryntaylorbooks.com
SUMMARY:Winter Market
DESCRIPTION:Join local venders and our own Author Kathryn Taylor at the Winter Market at Coastal Coffee Roasters! All will be on hand from 9 a.m. to 1:00 p.m. for your last minute holiday shopping! Author Kathryn Taylor will have copies of her recently released book Two Minus One: A Memoir for personalized signing and holiday gift giving! Come out and support your local artisans and enjoy this cozy venue! Additional dates will be added with availability so watch for updates!
URL:https://kathryntaylorbooks.com/event/winter-market/
CATEGORIES:Book Tour
ATTACH;FMTTYPE=image/jpeg:https://kathryntaylorbooks.com/wp-content/uploads/2018/11/coastal-coffee.jpg
END:VEVENT
BEGIN:VEVENT
DTSTART;TZID=America/New_York:20181207T140000
DTEND;TZID=America/New_York:20181207T180000
DTSTAMP:20260424T132853
CREATED:20180809T132523Z
LAST-MODIFIED:20181122T164534Z
UID:889-1544191200-1544205600@kathryntaylorbooks.com
SUMMARY:Local Authors' Fair
DESCRIPTION:Local Authors’ Fair at the Waccamaw Library in Pawleys Island that will feature an array of local writers who work in a variety of genres. The Fair will take place on Friday\, December 7\, 2018 at 2:00 p.m.-6:00 p.m in the Library’s DeBordieu Auditorium. Kathryn Taylor will be one of the author’s available to discuss and sign copies of her newly released memoir\, Two Minus One.
URL:https://kathryntaylorbooks.com/event/local-authors-fair/
LOCATION:Waccamaw Public Library\, 41 St. Paul Place\, Pawleys Island\, SC\, 29585\, United States
CATEGORIES:Book Tour
ATTACH;FMTTYPE=application/pdf:https://kathryntaylorbooks.com/wp-content/uploads/2018/08/Holiday_Happiness_2018-002.pdf
END:VEVENT
BEGIN:VEVENT
DTSTART;TZID=America/New_York:20181129T180000
DTEND;TZID=America/New_York:20181129T210000
DTSTAMP:20260424T132853
CREATED:20181015T224856Z
LAST-MODIFIED:20181015T230249Z
UID:1081-1543514400-1543525200@kathryntaylorbooks.com
SUMMARY:Coastal Coffee Roasters
DESCRIPTION:Come out for a night of fun and relaxation at Open Mic at Coastal Coffee Roasters in Summerville\, SC. Author Kathryn Taylor will be in the Cafe to answer your questions and sign your copies of her recently published Two Minus One: A Memoir.
URL:https://kathryntaylorbooks.com/event/coastal-coffee-roasters/
LOCATION:Coastal Coffee Roasters\, Inc.\, 108 E 3rd N St\, Summerville\, SC 29483\,\, 108 E. 3rd N St.\, Summerville\, SC\, 29483-6007\, United States
CATEGORIES:Book Tour
ATTACH;FMTTYPE=image/jpeg:https://kathryntaylorbooks.com/wp-content/uploads/2018/10/coastal-coffee.jpg
END:VEVENT
BEGIN:VEVENT
DTSTART;TZID=America/New_York:20181117T140000
DTEND;TZID=America/New_York:20181117T160000
DTSTAMP:20260424T132853
CREATED:20180517T191042Z
LAST-MODIFIED:20181015T225029Z
UID:394-1542463200-1542470400@kathryntaylorbooks.com
SUMMARY:Book Signing at Scarlett's
DESCRIPTION:Bring a friend and be one of the first to purchase the newly released Two Minus One: A Memoir by our own Kathryn Taylor. Refreshments will be served and a discounted price will be given just for today! Enjoy browsing this lovely shop and chatting with the author!
URL:https://kathryntaylorbooks.com/event/book-signing-at-scarletts/
LOCATION:Scarletts Home Decor\, 612 Bacons Bridge Rd\, Summerville\, SC 29485\, 612 Bacons Bridge Rd.\, Summerville\, SC\, 29485\, United States
CATEGORIES:Book Tour
ATTACH;FMTTYPE=image/jpeg:https://kathryntaylorbooks.com/wp-content/uploads/2018/05/Scarletts-book-signing.jpg
ORGANIZER;CN="":MAILTO:shari@writerswin.com
END:VEVENT
BEGIN:VEVENT
DTSTART;TZID=America/New_York:20181116T100000
DTEND;TZID=America/New_York:20181116T120000
DTSTAMP:20260424T132853
CREATED:20180517T190243Z
LAST-MODIFIED:20181015T225137Z
UID:388-1542362400-1542369600@kathryntaylorbooks.com
SUMMARY:Summerville Women's Coffee Chat
DESCRIPTION:Come and enjoy coffee and conversation with your friends and our own Kathryn Taylor for a book signing of her newly released Two Minus One: A Memoir. This event is only for current members of the Coffee and Chat group. 
URL:https://kathryntaylorbooks.com/event/summerville-womens-coffee-chat/
LOCATION:Coastal Coffee Roasters\, Inc.\, 108 E 3rd N St\, Summerville\, SC 29483\,\, 108 E. 3rd N St.\, Summerville\, SC\, 29483-6007\, United States
CATEGORIES:Book Tour
ATTACH;FMTTYPE=image/jpeg:https://kathryntaylorbooks.com/wp-content/uploads/2018/05/coastal-coffee-roasters1.jpg
ORGANIZER;CN="Janis Orshal":MAILTO:janis.orshal@yahoo.com
END:VEVENT
BEGIN:VEVENT
DTSTART;TZID=America/New_York:20181115T173000
DTEND;TZID=America/New_York:20181115T203000
DTSTAMP:20260424T132853
CREATED:20180827T130003Z
LAST-MODIFIED:20181015T225332Z
UID:947-1542303000-1542313800@kathryntaylorbooks.com
SUMMARY:AUTHOR AUTHOR
DESCRIPTION:Come out for Third Thursday in Summerville and meet our own Kathryn Taylor at Maggie Rose boutique! Refreshments will be served and her new book Two Minus One: A Memoir will be available for purchase and signing! Of course\, there will also be lovely clothing and accessories available to get you ready for the upcoming holiday season!
URL:https://kathryntaylorbooks.com/event/author-author/
LOCATION:Maggie Rose\, 130 S Main St\, Summerville\, SC\, 29483\, United States
CATEGORIES:Book Tour
ATTACH;FMTTYPE=image/jpeg:https://kathryntaylorbooks.com/wp-content/uploads/2018/08/Maggie-Rose-Author-Author-copy.jpg
ORGANIZER;CN="":MAILTO:events@summervilledream.org
END:VEVENT
BEGIN:VEVENT
DTSTART;TZID=America/New_York:20181113T110000
DTEND;TZID=America/New_York:20181113T130000
DTSTAMP:20260424T132853
CREATED:20180517T182935Z
LAST-MODIFIED:20181015T225442Z
UID:381-1542106800-1542114000@kathryntaylorbooks.com
SUMMARY:Wardrobes and Words Book Signing
DESCRIPTION:Kathryn Taylor will be the guest at Talbot’s on King Street to sign her newly released book\, Two Minus One: A Memoir. Books will be available at the store and make great holiday gifts! Join us for shopping\, signing and fun!
URL:https://kathryntaylorbooks.com/event/wardrobes-and-words-book-signing/
CATEGORIES:Book Tour
ATTACH;FMTTYPE=image/jpeg:https://kathryntaylorbooks.com/wp-content/uploads/2018/05/Talbots-book-signing.jpeg
END:VEVENT
BEGIN:VEVENT
DTSTART;TZID=America/New_York:20181111T140000
DTEND;TZID=America/New_York:20181111T170000
DTSTAMP:20260424T132853
CREATED:20180517T174435Z
LAST-MODIFIED:20181105T202756Z
UID:374-1541944800-1541955600@kathryntaylorbooks.com
SUMMARY:50+ Meetup Meet & Greet and Book Signing
DESCRIPTION:Remind all of your friends that our very own Kathryn Taylor will be joining the Charleston Women 50+ Meetup to sign copies of her newly released book\, Two Minus One: A Memoir. at JuJu  Carribean Eatery (604 Coleman Blvd. in Mt. Pleasant\, SC. Books will be available on site or before the event from Buxton Books (2 Cumberland St.\, Charleston\, SC). This event is for current and prospective members of the group!
URL:https://kathryntaylorbooks.com/event/50-meetup-brunch-and-book-signing/
LOCATION:TBA\, Charleston\, United States
CATEGORIES:Book Tour
ATTACH;FMTTYPE=image/png:https://kathryntaylorbooks.com/wp-content/uploads/2018/05/Meetup-JuJu-Mt.-Pleasant-SC.png
END:VEVENT
END:VCALENDAR