BEGIN:VCALENDAR
VERSION:2.0
PRODID:-//Kathryn Taylor - ECPv6.15.11//NONSGML v1.0//EN
CALSCALE:GREGORIAN
METHOD:PUBLISH
X-WR-CALNAME:Kathryn Taylor
X-ORIGINAL-URL:https://kathryntaylorbooks.com
X-WR-CALDESC:Events for Kathryn Taylor
REFRESH-INTERVAL;VALUE=DURATION:PT1H
X-Robots-Tag:noindex
X-PUBLISHED-TTL:PT1H
BEGIN:VTIMEZONE
TZID:America/Chicago
BEGIN:DAYLIGHT
TZOFFSETFROM:-0600
TZOFFSETTO:-0500
TZNAME:CDT
DTSTART:20180311T080000
END:DAYLIGHT
BEGIN:STANDARD
TZOFFSETFROM:-0500
TZOFFSETTO:-0600
TZNAME:CST
DTSTART:20181104T070000
END:STANDARD
BEGIN:DAYLIGHT
TZOFFSETFROM:-0600
TZOFFSETTO:-0500
TZNAME:CDT
DTSTART:20190310T080000
END:DAYLIGHT
BEGIN:STANDARD
TZOFFSETFROM:-0500
TZOFFSETTO:-0600
TZNAME:CST
DTSTART:20191103T070000
END:STANDARD
BEGIN:DAYLIGHT
TZOFFSETFROM:-0600
TZOFFSETTO:-0500
TZNAME:CDT
DTSTART:20200308T080000
END:DAYLIGHT
BEGIN:STANDARD
TZOFFSETFROM:-0500
TZOFFSETTO:-0600
TZNAME:CST
DTSTART:20201101T070000
END:STANDARD
END:VTIMEZONE
BEGIN:VTIMEZONE
TZID:America/New_York
BEGIN:DAYLIGHT
TZOFFSETFROM:-0500
TZOFFSETTO:-0400
TZNAME:EDT
DTSTART:20170312T070000
END:DAYLIGHT
BEGIN:STANDARD
TZOFFSETFROM:-0400
TZOFFSETTO:-0500
TZNAME:EST
DTSTART:20171105T060000
END:STANDARD
BEGIN:DAYLIGHT
TZOFFSETFROM:-0500
TZOFFSETTO:-0400
TZNAME:EDT
DTSTART:20180311T070000
END:DAYLIGHT
BEGIN:STANDARD
TZOFFSETFROM:-0400
TZOFFSETTO:-0500
TZNAME:EST
DTSTART:20181104T060000
END:STANDARD
BEGIN:DAYLIGHT
TZOFFSETFROM:-0500
TZOFFSETTO:-0400
TZNAME:EDT
DTSTART:20190310T070000
END:DAYLIGHT
BEGIN:STANDARD
TZOFFSETFROM:-0400
TZOFFSETTO:-0500
TZNAME:EST
DTSTART:20191103T060000
END:STANDARD
END:VTIMEZONE
BEGIN:VEVENT
DTSTART;TZID=America/Chicago:20190106T140000
DTEND;TZID=America/Chicago:20190106T160000
DTSTAMP:20260424T164708
CREATED:20181015T180248Z
LAST-MODIFIED:20181213T041958Z
UID:1050-1546783200-1546790400@kathryntaylorbooks.com
SUMMARY:Author Panel and Book Signing
DESCRIPTION:Come join the fun as former resident and District #203 teacher Kathryn (Schaal) Taylor joins a lively panel of authors when she returns to Naperville and stops by Anderson’s Bookshop! \nVisit: www.andersonsbookshop.com/event/local-author-showcase to pre-order your personal copy before the signing! \nKathryn will be discussing her recently released book Two Minus One: A Memoir and will happily sign copies of her book which can be purchased on site as she catches up with old friends\, colleagues and students!
URL:https://kathryntaylorbooks.com/event/author-panel-and-book-signing/
LOCATION:Anderson’s Book Shop\, 123 W. Jefferson Ave.\, Naperville\, Illinois\, 60540
CATEGORIES:Book Tour
ATTACH;FMTTYPE=image/jpeg:https://kathryntaylorbooks.com/wp-content/uploads/2018/10/Andersons-Bookshop-Naperville.jpg
END:VEVENT
BEGIN:VEVENT
DTSTART;TZID=America/New_York:20181220T173000
DTEND;TZID=America/New_York:20181220T203000
DTSTAMP:20260424T164708
CREATED:20181122T161926Z
LAST-MODIFIED:20181122T161926Z
UID:1185-1545327000-1545337800@kathryntaylorbooks.com
SUMMARY:Author\, Author
DESCRIPTION:Encore event courtesy of Summerville Dream and Maggie Rose Boutique! Due to cold temperatures for November Third Thursday and the generosity of sponsors and shop owners\, Author Kathryn Taylor will return to Maggie Rose Boutique to sign copies of her newly released book Two Minus One: A Memoir. Come in for some great conversation\, great clothes\, and a wonderful last minute gift for everyone on your list!  Copies of Two Minus One: A Memoir will be available at all times at Maggie Rose!
URL:https://kathryntaylorbooks.com/event/author-author-2/
LOCATION:Maggie Rose Boutique\, 130 South Main Street\, Summerville\, SC\, 29483\, United States
CATEGORIES:Book Tour
ATTACH;FMTTYPE=image/jpeg:https://kathryntaylorbooks.com/wp-content/uploads/2018/11/maggie-rose.jpg
END:VEVENT
BEGIN:VEVENT
DTSTART;TZID=America/New_York:20181215T090000
DTEND;TZID=America/New_York:20181215T130000
DTSTAMP:20260424T164708
CREATED:20181122T173007Z
LAST-MODIFIED:20181122T195754Z
UID:1209-1544864400-1544878800@kathryntaylorbooks.com
SUMMARY:Winter Market
DESCRIPTION:Join local venders and our own Author Kathryn Taylor at the Winter Market at Coastal Coffee Roasters! All will be on hand from 9 a.m. to 1:00 p.m. for your last minute holiday shopping! Author Kathryn Taylor will have copies of her recently released book Two Minus One: A Memoir for personalized signing and holiday gift giving! Come out and support your local artisans and enjoy this cozy venue! Additional dates will be added with availability so watch for updates!
URL:https://kathryntaylorbooks.com/event/winter-market/
CATEGORIES:Book Tour
ATTACH;FMTTYPE=image/jpeg:https://kathryntaylorbooks.com/wp-content/uploads/2018/11/coastal-coffee.jpg
END:VEVENT
BEGIN:VEVENT
DTSTART;TZID=America/New_York:20181207T140000
DTEND;TZID=America/New_York:20181207T180000
DTSTAMP:20260424T164708
CREATED:20180809T132523Z
LAST-MODIFIED:20181122T164534Z
UID:889-1544191200-1544205600@kathryntaylorbooks.com
SUMMARY:Local Authors' Fair
DESCRIPTION:Local Authors’ Fair at the Waccamaw Library in Pawleys Island that will feature an array of local writers who work in a variety of genres. The Fair will take place on Friday\, December 7\, 2018 at 2:00 p.m.-6:00 p.m in the Library’s DeBordieu Auditorium. Kathryn Taylor will be one of the author’s available to discuss and sign copies of her newly released memoir\, Two Minus One.
URL:https://kathryntaylorbooks.com/event/local-authors-fair/
LOCATION:Waccamaw Public Library\, 41 St. Paul Place\, Pawleys Island\, SC\, 29585\, United States
CATEGORIES:Book Tour
ATTACH;FMTTYPE=application/pdf:https://kathryntaylorbooks.com/wp-content/uploads/2018/08/Holiday_Happiness_2018-002.pdf
END:VEVENT
BEGIN:VEVENT
DTSTART;TZID=America/New_York:20181129T180000
DTEND;TZID=America/New_York:20181129T210000
DTSTAMP:20260424T164708
CREATED:20181015T224856Z
LAST-MODIFIED:20181015T230249Z
UID:1081-1543514400-1543525200@kathryntaylorbooks.com
SUMMARY:Coastal Coffee Roasters
DESCRIPTION:Come out for a night of fun and relaxation at Open Mic at Coastal Coffee Roasters in Summerville\, SC. Author Kathryn Taylor will be in the Cafe to answer your questions and sign your copies of her recently published Two Minus One: A Memoir.
URL:https://kathryntaylorbooks.com/event/coastal-coffee-roasters/
LOCATION:Coastal Coffee Roasters\, Inc.\, 108 E 3rd N St\, Summerville\, SC 29483\,\, 108 E. 3rd N St.\, Summerville\, SC\, 29483-6007\, United States
CATEGORIES:Book Tour
ATTACH;FMTTYPE=image/jpeg:https://kathryntaylorbooks.com/wp-content/uploads/2018/10/coastal-coffee.jpg
END:VEVENT
BEGIN:VEVENT
DTSTART;TZID=America/New_York:20181117T140000
DTEND;TZID=America/New_York:20181117T160000
DTSTAMP:20260424T164708
CREATED:20180517T191042Z
LAST-MODIFIED:20181015T225029Z
UID:394-1542463200-1542470400@kathryntaylorbooks.com
SUMMARY:Book Signing at Scarlett's
DESCRIPTION:Bring a friend and be one of the first to purchase the newly released Two Minus One: A Memoir by our own Kathryn Taylor. Refreshments will be served and a discounted price will be given just for today! Enjoy browsing this lovely shop and chatting with the author!
URL:https://kathryntaylorbooks.com/event/book-signing-at-scarletts/
LOCATION:Scarletts Home Decor\, 612 Bacons Bridge Rd\, Summerville\, SC 29485\, 612 Bacons Bridge Rd.\, Summerville\, SC\, 29485\, United States
CATEGORIES:Book Tour
ATTACH;FMTTYPE=image/jpeg:https://kathryntaylorbooks.com/wp-content/uploads/2018/05/Scarletts-book-signing.jpg
ORGANIZER;CN="":MAILTO:shari@writerswin.com
END:VEVENT
BEGIN:VEVENT
DTSTART;TZID=America/New_York:20181116T100000
DTEND;TZID=America/New_York:20181116T120000
DTSTAMP:20260424T164708
CREATED:20180517T190243Z
LAST-MODIFIED:20181015T225137Z
UID:388-1542362400-1542369600@kathryntaylorbooks.com
SUMMARY:Summerville Women's Coffee Chat
DESCRIPTION:Come and enjoy coffee and conversation with your friends and our own Kathryn Taylor for a book signing of her newly released Two Minus One: A Memoir. This event is only for current members of the Coffee and Chat group. 
URL:https://kathryntaylorbooks.com/event/summerville-womens-coffee-chat/
LOCATION:Coastal Coffee Roasters\, Inc.\, 108 E 3rd N St\, Summerville\, SC 29483\,\, 108 E. 3rd N St.\, Summerville\, SC\, 29483-6007\, United States
CATEGORIES:Book Tour
ATTACH;FMTTYPE=image/jpeg:https://kathryntaylorbooks.com/wp-content/uploads/2018/05/coastal-coffee-roasters1.jpg
ORGANIZER;CN="Janis Orshal":MAILTO:janis.orshal@yahoo.com
END:VEVENT
BEGIN:VEVENT
DTSTART;TZID=America/New_York:20181115T173000
DTEND;TZID=America/New_York:20181115T203000
DTSTAMP:20260424T164708
CREATED:20180827T130003Z
LAST-MODIFIED:20181015T225332Z
UID:947-1542303000-1542313800@kathryntaylorbooks.com
SUMMARY:AUTHOR AUTHOR
DESCRIPTION:Come out for Third Thursday in Summerville and meet our own Kathryn Taylor at Maggie Rose boutique! Refreshments will be served and her new book Two Minus One: A Memoir will be available for purchase and signing! Of course\, there will also be lovely clothing and accessories available to get you ready for the upcoming holiday season!
URL:https://kathryntaylorbooks.com/event/author-author/
LOCATION:Maggie Rose\, 130 S Main St\, Summerville\, SC\, 29483\, United States
CATEGORIES:Book Tour
ATTACH;FMTTYPE=image/jpeg:https://kathryntaylorbooks.com/wp-content/uploads/2018/08/Maggie-Rose-Author-Author-copy.jpg
ORGANIZER;CN="":MAILTO:events@summervilledream.org
END:VEVENT
BEGIN:VEVENT
DTSTART;TZID=America/New_York:20181113T110000
DTEND;TZID=America/New_York:20181113T130000
DTSTAMP:20260424T164708
CREATED:20180517T182935Z
LAST-MODIFIED:20181015T225442Z
UID:381-1542106800-1542114000@kathryntaylorbooks.com
SUMMARY:Wardrobes and Words Book Signing
DESCRIPTION:Kathryn Taylor will be the guest at Talbot’s on King Street to sign her newly released book\, Two Minus One: A Memoir. Books will be available at the store and make great holiday gifts! Join us for shopping\, signing and fun!
URL:https://kathryntaylorbooks.com/event/wardrobes-and-words-book-signing/
CATEGORIES:Book Tour
ATTACH;FMTTYPE=image/jpeg:https://kathryntaylorbooks.com/wp-content/uploads/2018/05/Talbots-book-signing.jpeg
END:VEVENT
BEGIN:VEVENT
DTSTART;TZID=America/New_York:20181111T140000
DTEND;TZID=America/New_York:20181111T170000
DTSTAMP:20260424T164708
CREATED:20180517T174435Z
LAST-MODIFIED:20181105T202756Z
UID:374-1541944800-1541955600@kathryntaylorbooks.com
SUMMARY:50+ Meetup Meet & Greet and Book Signing
DESCRIPTION:Remind all of your friends that our very own Kathryn Taylor will be joining the Charleston Women 50+ Meetup to sign copies of her newly released book\, Two Minus One: A Memoir. at JuJu  Carribean Eatery (604 Coleman Blvd. in Mt. Pleasant\, SC. Books will be available on site or before the event from Buxton Books (2 Cumberland St.\, Charleston\, SC). This event is for current and prospective members of the group!
URL:https://kathryntaylorbooks.com/event/50-meetup-brunch-and-book-signing/
LOCATION:TBA\, Charleston\, United States
CATEGORIES:Book Tour
ATTACH;FMTTYPE=image/png:https://kathryntaylorbooks.com/wp-content/uploads/2018/05/Meetup-JuJu-Mt.-Pleasant-SC.png
END:VEVENT
BEGIN:VEVENT
DTSTART;TZID=America/New_York:20181110T170000
DTEND;TZID=America/New_York:20181110T190000
DTSTAMP:20260424T164708
CREATED:20180809T130542Z
LAST-MODIFIED:20181015T225705Z
UID:883-1541869200-1541876400@kathryntaylorbooks.com
SUMMARY:Harbour Club Launch Party
DESCRIPTION:Come and celebrate with Kathryn Taylor for the official launch party of Two Minus One: A Memoir. \nThis event is by invitation only — if you haven’t received yours and would like to participate\, email Kathryn at kathryntaylor.author@gmail.com — or make sure to visit another event on the Two Minus One book tour!
URL:https://kathryntaylorbooks.com/event/launch-party/
LOCATION:Harbour Club\, 35 Prioleau Street\, Charleston\, SC 29401
CATEGORIES:Book Tour
ATTACH;FMTTYPE=image/jpeg:https://kathryntaylorbooks.com/wp-content/uploads/2018/05/Two-Minus-One-by-Kathryn-Taylor.jpg
END:VEVENT
BEGIN:VEVENT
DTSTART;TZID=America/New_York:20181108T160000
DTEND;TZID=America/New_York:20181108T180000
DTSTAMP:20260424T164708
CREATED:20180827T133042Z
LAST-MODIFIED:20181016T215537Z
UID:941-1541692800-1541700000@kathryntaylorbooks.com
SUMMARY:Book Signing at Itinerate Literate Bookstop
DESCRIPTION:Come share in the excitement with author Kathryn Taylor as she shares her newly released book Two Minus One! Wine and cheese will be served and there will be plenty of time to mix and mingle with the author! There will also be a Q/A session and books will be on hand for purchase and signing!
URL:https://kathryntaylorbooks.com/event/book-signing-at-itinerate-literate-bookstop/
LOCATION:Itinerate Literate Bookstop\, 4824 Chateau Ave\, North Charleston\, SC\, 29405\, United States
CATEGORIES:Book Tour
ATTACH;FMTTYPE=image/jpeg:https://kathryntaylorbooks.com/wp-content/uploads/2018/08/book-signing-at-n-charleston-itinerate-literate.jpg
ORGANIZER;CN="":MAILTO:jstauch@app-co.com
END:VEVENT
BEGIN:VEVENT
DTSTART;TZID=America/New_York:20180804T110000
DTEND;TZID=America/New_York:20180804T150000
DTSTAMP:20260424T164708
CREATED:20180723T120658Z
LAST-MODIFIED:20180723T120822Z
UID:822-1533380400-1533394800@kathryntaylorbooks.com
SUMMARY:Write On! Literacy Festival
DESCRIPTION:Join Kathryn at the LILA (Lowcountry Initiative for the Literary Arts) interactive booth in the Innovation Zone during Charleston Public Library’s Write On Literary Festival! \nAttention all book nerds\, tech geeks\, and creativity lovers: end the summer right by attending the first ever Write On! Literacy Festival. LILA will be in the Innovation Zone\, represented by local authors Kathleen Varn and Kathryn Taylor\, who will both be on hand to talk about the writing process\, specifically journaling your way to a book! \nThe first 100 visitors to the LILA booth will also get a pen and a journal all their own\, FREE!
URL:https://kathryntaylorbooks.com/event/write-on-literacy-festival/
LOCATION:Charleston County Public Library\, 68 Calhoun St\, Charleston\, SC\, 29401\, United States
CATEGORIES:Book Tour
ATTACH;FMTTYPE=image/jpeg:https://kathryntaylorbooks.com/wp-content/uploads/2018/07/Write-on-festival_final.jpg
END:VEVENT
END:VCALENDAR